Package: GenomicRanges Version: 1.54.1 Command: /Library/Frameworks/R.framework/Resources/bin/R CMD build --keep-empty-dirs --no-resave-data GenomicRanges StartedAt: 2024-03-03 16:51:26 -0500 (Sun, 03 Mar 2024) EndedAt: 2024-03-03 16:54:53 -0500 (Sun, 03 Mar 2024) EllapsedTime: 206.7 seconds RetCode: 0 Status: OK PackageFile: GenomicRanges_1.54.1.tar.gz PackageFileSize: 1.303 MiB