Package: GenomicRanges Version: 1.54.1 Command: rm -rf GenomicRanges.buildbin-libdir && mkdir GenomicRanges.buildbin-libdir && /Users/biocbuild/BBS/utils/build-universal.sh GenomicRanges_1.54.1.tar.gz /Library/Frameworks/R.framework/Resources/bin/R GenomicRanges.buildbin-libdir StartedAt: 2024-03-04 00:43:07 -0500 (Mon, 04 Mar 2024) EndedAt: 2024-03-04 00:43:45 -0500 (Mon, 04 Mar 2024) EllapsedTime: 37.1 seconds RetCode: 0 Status: OK PackageFile: GenomicRanges_1.54.1.tgz PackageFileSize: 2.281 MiB