Package: GenomicOZone Version: 1.16.0 Command: /home/biocbuild/bbs-3.18-bioc/R/bin/R CMD check --install=check:GenomicOZone.install-out.txt --library=/home/biocbuild/bbs-3.18-bioc/R/site-library --timings GenomicOZone_1.16.0.tar.gz StartedAt: 2024-04-15 23:08:47 -0400 (Mon, 15 Apr 2024) EndedAt: 2024-04-15 23:16:11 -0400 (Mon, 15 Apr 2024) EllapsedTime: 444.1 seconds RetCode: 0 Status: OK CheckDir: GenomicOZone.Rcheck Warnings: 0