Package: GenomicOZone Version: 1.16.0 Command: /home/biocbuild/R/R-4.3.1/bin/R CMD build --keep-empty-dirs --no-resave-data GenomicOZone StartedAt: 2023-11-02 01:28:19 -0000 (Thu, 02 Nov 2023) EndedAt: 2023-11-02 01:31:29 -0000 (Thu, 02 Nov 2023) EllapsedTime: 189.2 seconds RetCode: 0 Status: OK PackageFile: GenomicOZone_1.16.0.tar.gz PackageFileSize: 1.277 MiB