Package: GenomicFeatures Version: 1.54.4 Command: F:\biocbuild\bbs-3.18-bioc\R\bin\R.exe CMD INSTALL GenomicFeatures StartedAt: 2024-04-15 16:01:45 -0400 (Mon, 15 Apr 2024) EndedAt: 2024-04-15 16:02:51 -0400 (Mon, 15 Apr 2024) EllapsedTime: 66.0 seconds RetCode: 0 Status: OK