Package: GenomicFeatures Version: 1.54.4 Command: chmod a+r GenomicFeatures -R && F:\biocbuild\bbs-3.18-bioc\R\bin\R.exe CMD build --keep-empty-dirs --no-resave-data GenomicFeatures StartedAt: 2024-04-15 18:42:29 -0400 (Mon, 15 Apr 2024) EndedAt: 2024-04-15 18:44:11 -0400 (Mon, 15 Apr 2024) EllapsedTime: 101.7 seconds RetCode: 0 Status: OK PackageFile: GenomicFeatures_1.54.4.tar.gz PackageFileSize: 1.124 MiB