Package: GenomicFeatures Version: 1.54.4 Command: rm -rf GenomicFeatures.buildbin-libdir && mkdir GenomicFeatures.buildbin-libdir && F:\biocbuild\bbs-3.18-bioc\R\bin\R.exe CMD INSTALL --build --library=GenomicFeatures.buildbin-libdir GenomicFeatures_1.54.4.tar.gz StartedAt: 2024-04-16 07:03:55 -0400 (Tue, 16 Apr 2024) EndedAt: 2024-04-16 07:05:02 -0400 (Tue, 16 Apr 2024) EllapsedTime: 66.1 seconds RetCode: 0 Status: OK PackageFile: GenomicFeatures_1.54.4.zip PackageFileSize: 2.15 MiB