Package: GenomicFeatures Version: 1.54.3 Command: /Library/Frameworks/R.framework/Resources/bin/R CMD INSTALL GenomicFeatures StartedAt: 2024-03-03 15:18:02 -0500 (Sun, 03 Mar 2024) EndedAt: 2024-03-03 15:19:02 -0500 (Sun, 03 Mar 2024) EllapsedTime: 60.5 seconds RetCode: 0 Status: OK