Package: GenomicFeatures Version: 1.54.3 Command: rm -rf GenomicFeatures.buildbin-libdir && mkdir GenomicFeatures.buildbin-libdir && /Users/biocbuild/BBS/utils/build-universal.sh GenomicFeatures_1.54.3.tar.gz /Library/Frameworks/R.framework/Resources/bin/R GenomicFeatures.buildbin-libdir StartedAt: 2024-02-28 00:57:42 -0500 (Wed, 28 Feb 2024) EndedAt: 2024-02-28 00:58:46 -0500 (Wed, 28 Feb 2024) EllapsedTime: 64.2 seconds RetCode: 0 Status: OK PackageFile: GenomicFeatures_1.54.3.tgz PackageFileSize: 2.167 MiB