Package: GenomicFeatures Version: 1.54.1 Command: /home/biocbuild/R/R-4.3.1/bin/R CMD check --install=check:GenomicFeatures.install-out.txt --library=/home/biocbuild/R/R-4.3.1/site-library --no-vignettes --timings GenomicFeatures_1.54.1.tar.gz StartedAt: 2023-11-02 10:49:14 -0000 (Thu, 02 Nov 2023) EndedAt: 2023-11-02 10:56:48 -0000 (Thu, 02 Nov 2023) EllapsedTime: 454.3 seconds RetCode: 1 Status: ERROR CheckDir: GenomicFeatures.Rcheck Warnings: NA