Package: GenomicDistributions Version: 1.10.0 Command: /Library/Frameworks/R.framework/Resources/bin/R CMD INSTALL GenomicDistributions StartedAt: 2024-04-15 15:20:58 -0400 (Mon, 15 Apr 2024) EndedAt: 2024-04-15 15:21:35 -0400 (Mon, 15 Apr 2024) EllapsedTime: 36.3 seconds RetCode: 0 Status: OK