Package: GenomicDistributions Version: 1.10.0 Command: /Library/Frameworks/R.framework/Resources/bin/R CMD build --keep-empty-dirs --no-resave-data GenomicDistributions StartedAt: 2024-03-03 16:50:23 -0500 (Sun, 03 Mar 2024) EndedAt: 2024-03-03 16:51:37 -0500 (Sun, 03 Mar 2024) EllapsedTime: 74.5 seconds RetCode: 0 Status: OK PackageFile: GenomicDistributions_1.10.0.tar.gz PackageFileSize: 5.83 MiB