Package: GenomicAlignments Version: 1.38.2 Command: /Library/Frameworks/R.framework/Resources/bin/R CMD check --install=check:GenomicAlignments.install-out.txt --library=/Library/Frameworks/R.framework/Resources/library --no-vignettes --timings GenomicAlignments_1.38.2.tar.gz StartedAt: 2024-03-03 20:48:54 -0500 (Sun, 03 Mar 2024) EndedAt: 2024-03-03 20:54:41 -0500 (Sun, 03 Mar 2024) EllapsedTime: 346.4 seconds RetCode: 0 Status: OK CheckDir: GenomicAlignments.Rcheck Warnings: 0