Package: GenomicAlignments Version: 1.38.0 Command: /home/biocbuild/R/R-4.3.1/bin/R CMD build --keep-empty-dirs --no-resave-data GenomicAlignments StartedAt: 2023-11-02 01:26:33 -0000 (Thu, 02 Nov 2023) EndedAt: 2023-11-02 01:28:37 -0000 (Thu, 02 Nov 2023) EllapsedTime: 124.2 seconds RetCode: 0 Status: OK PackageFile: GenomicAlignments_1.38.0.tar.gz PackageFileSize: 2.119 MiB