Package: GenomeInfoDb Version: 1.38.8 Command: /Library/Frameworks/R.framework/Resources/bin/R CMD build --keep-empty-dirs --no-resave-data GenomeInfoDb StartedAt: 2024-04-15 18:54:24 -0400 (Mon, 15 Apr 2024) EndedAt: 2024-04-15 18:55:51 -0400 (Mon, 15 Apr 2024) EllapsedTime: 87.1 seconds RetCode: 0 Status: OK PackageFile: GenomeInfoDb_1.38.8.tar.gz PackageFileSize: 3.415 MiB