Package: GenomAutomorphism Version: 1.4.0 Command: /Library/Frameworks/R.framework/Resources/bin/R CMD INSTALL GenomAutomorphism StartedAt: 2024-03-03 15:43:35 -0500 (Sun, 03 Mar 2024) EndedAt: 2024-03-03 15:44:07 -0500 (Sun, 03 Mar 2024) EllapsedTime: 32.2 seconds RetCode: 0 Status: OK