Package: GeneTonic Version: 2.6.0 Command: rm -rf GeneTonic.buildbin-libdir && mkdir GeneTonic.buildbin-libdir && F:\biocbuild\bbs-3.18-bioc\R\bin\R.exe CMD INSTALL --build --library=GeneTonic.buildbin-libdir GeneTonic_2.6.0.tar.gz StartedAt: 2024-04-16 07:03:35 -0400 (Tue, 16 Apr 2024) EndedAt: 2024-04-16 07:04:30 -0400 (Tue, 16 Apr 2024) EllapsedTime: 55.1 seconds RetCode: 0 Status: OK PackageFile: GeneTonic_2.6.0.zip PackageFileSize: 7.549 MiB