Package: GeneTonic Version: 2.6.0 Command: /home/biocbuild/bbs-3.18-bioc/R/bin/R CMD INSTALL GeneTonic StartedAt: 2024-04-15 15:33:12 -0400 (Mon, 15 Apr 2024) EndedAt: 2024-04-15 15:33:49 -0400 (Mon, 15 Apr 2024) EllapsedTime: 37.1 seconds RetCode: 0 Status: OK