Package: GeneTonic Version: 2.6.0 Command: /home/biocbuild/bbs-3.18-bioc/R/bin/R CMD build --keep-empty-dirs --no-resave-data GeneTonic StartedAt: 2024-04-15 17:13:03 -0400 (Mon, 15 Apr 2024) EndedAt: 2024-04-15 17:14:31 -0400 (Mon, 15 Apr 2024) EllapsedTime: 88.6 seconds RetCode: 0 Status: OK PackageFile: GeneTonic_2.6.0.tar.gz PackageFileSize: 8.851 MiB