Package: GeneTonic Version: 2.6.0 Command: rm -rf GeneTonic.buildbin-libdir && mkdir GeneTonic.buildbin-libdir && /Users/biocbuild/BBS/utils/build-universal.sh GeneTonic_2.6.0.tar.gz /Library/Frameworks/R.framework/Resources/bin/R GeneTonic.buildbin-libdir StartedAt: 2024-04-16 11:47:36 -0400 (Tue, 16 Apr 2024) EndedAt: 2024-04-16 11:49:27 -0400 (Tue, 16 Apr 2024) EllapsedTime: 110.9 seconds RetCode: 0 Status: OK PackageFile: GeneTonic_2.6.0.tgz PackageFileSize: 9.868 MiB