Package: GeneTonic Version: 2.6.0 Command: rm -rf GeneTonic.buildbin-libdir && mkdir GeneTonic.buildbin-libdir && /Users/biocbuild/BBS/utils/build-universal.sh GeneTonic_2.6.0.tar.gz /Library/Frameworks/R.framework/Resources/bin/R GeneTonic.buildbin-libdir StartedAt: 2024-03-04 00:42:52 -0500 (Mon, 04 Mar 2024) EndedAt: 2024-03-04 00:43:47 -0500 (Mon, 04 Mar 2024) EllapsedTime: 55.3 seconds RetCode: 0 Status: OK PackageFile: GeneTonic_2.6.0.tgz PackageFileSize: 9.158 MiB