Package: GeneStructureTools Version: 1.22.0 Command: /home/biocbuild/R/R-4.3.1/bin/R CMD build --keep-empty-dirs --no-resave-data GeneStructureTools StartedAt: 2023-11-02 01:23:49 -0000 (Thu, 02 Nov 2023) EndedAt: 2023-11-02 01:27:18 -0000 (Thu, 02 Nov 2023) EllapsedTime: 209.3 seconds RetCode: 0 Status: OK PackageFile: GeneStructureTools_1.22.0.tar.gz PackageFileSize: 2.556 MiB