Package: GeneSelectMMD Version: 2.46.0 Command: F:\biocbuild\bbs-3.18-bioc\R\bin\R.exe CMD check --no-multiarch --install=check:GeneSelectMMD.install-out.txt --library=F:\biocbuild\bbs-3.18-bioc\R\library --no-vignettes --timings GeneSelectMMD_2.46.0.tar.gz StartedAt: 2024-04-16 01:04:40 -0400 (Tue, 16 Apr 2024) EndedAt: 2024-04-16 01:05:28 -0400 (Tue, 16 Apr 2024) EllapsedTime: 47.5 seconds RetCode: 0 Status: OK CheckDir: GeneSelectMMD.Rcheck Warnings: 0