Package: GeneSelectMMD Version: 2.46.0 Command: rm -rf GeneSelectMMD.buildbin-libdir && mkdir GeneSelectMMD.buildbin-libdir && F:\biocbuild\bbs-3.18-bioc\R\bin\R.exe CMD INSTALL --build --library=GeneSelectMMD.buildbin-libdir GeneSelectMMD_2.46.0.tar.gz StartedAt: 2024-04-16 07:03:26 -0400 (Tue, 16 Apr 2024) EndedAt: 2024-04-16 07:03:39 -0400 (Tue, 16 Apr 2024) EllapsedTime: 12.8 seconds RetCode: 0 Status: OK PackageFile: GeneSelectMMD_2.46.0.zip PackageFileSize: 575.6 KiB