Package: GeneSelectMMD Version: 2.46.0 Command: /home/biocbuild/R/R-4.3.1/bin/R CMD build --keep-empty-dirs --no-resave-data GeneSelectMMD StartedAt: 2023-11-02 01:23:36 -0000 (Thu, 02 Nov 2023) EndedAt: 2023-11-02 01:23:49 -0000 (Thu, 02 Nov 2023) EllapsedTime: 13.0 seconds RetCode: 0 Status: OK PackageFile: GeneSelectMMD_2.46.0.tar.gz PackageFileSize: 439.5 KiB