Package: GeneRegionScan Version: 1.58.0 Command: F:\biocbuild\bbs-3.18-bioc\R\bin\R.exe CMD check --no-multiarch --install=check:GeneRegionScan.install-out.txt --library=F:\biocbuild\bbs-3.18-bioc\R\library --no-vignettes --timings GeneRegionScan_1.58.0.tar.gz StartedAt: 2024-04-16 01:04:27 -0400 (Tue, 16 Apr 2024) EndedAt: 2024-04-16 01:07:12 -0400 (Tue, 16 Apr 2024) EllapsedTime: 164.8 seconds RetCode: 0 Status: OK CheckDir: GeneRegionScan.Rcheck Warnings: 0