Package: GeneRegionScan Version: 1.58.0 Command: chmod a+r GeneRegionScan -R && F:\biocbuild\bbs-3.18-bioc\R\bin\R.exe CMD build --keep-empty-dirs --no-resave-data GeneRegionScan StartedAt: 2024-04-15 18:41:07 -0400 (Mon, 15 Apr 2024) EndedAt: 2024-04-15 18:41:54 -0400 (Mon, 15 Apr 2024) EllapsedTime: 46.4 seconds RetCode: 0 Status: OK PackageFile: GeneRegionScan_1.58.0.tar.gz PackageFileSize: 7.39 MiB