Package: GeneRegionScan Version: 1.58.0 Command: rm -rf GeneRegionScan.buildbin-libdir && mkdir GeneRegionScan.buildbin-libdir && F:\biocbuild\bbs-3.18-bioc\R\bin\R.exe CMD INSTALL --build --library=GeneRegionScan.buildbin-libdir GeneRegionScan_1.58.0.tar.gz StartedAt: 2024-04-16 07:03:23 -0400 (Tue, 16 Apr 2024) EndedAt: 2024-04-16 07:04:02 -0400 (Tue, 16 Apr 2024) EllapsedTime: 39.1 seconds RetCode: 0 Status: OK PackageFile: GeneRegionScan_1.58.0.zip PackageFileSize: 7.568 MiB