Package: GeneRegionScan Version: 1.58.0 Command: /Library/Frameworks/R.framework/Resources/bin/R CMD check --install=check:GeneRegionScan.install-out.txt --library=/Library/Frameworks/R.framework/Resources/library --no-vignettes --timings GeneRegionScan_1.58.0.tar.gz StartedAt: 2024-03-03 20:47:22 -0500 (Sun, 03 Mar 2024) EndedAt: 2024-03-03 20:50:15 -0500 (Sun, 03 Mar 2024) EllapsedTime: 172.5 seconds RetCode: 0 Status: OK CheckDir: GeneRegionScan.Rcheck Warnings: 0