Package: GeneRegionScan Version: 1.58.0 Command: /Library/Frameworks/R.framework/Resources/bin/R CMD build --keep-empty-dirs --no-resave-data GeneRegionScan StartedAt: 2024-03-03 16:49:32 -0500 (Sun, 03 Mar 2024) EndedAt: 2024-03-03 16:50:17 -0500 (Sun, 03 Mar 2024) EllapsedTime: 45.2 seconds RetCode: 0 Status: OK PackageFile: GeneRegionScan_1.58.0.tar.gz PackageFileSize: 7.482 MiB