Package: GeneNetworkBuilder Version: 1.44.0 Command: /home/biocbuild/bbs-3.18-bioc/R/bin/R CMD INSTALL GeneNetworkBuilder StartedAt: 2024-04-15 15:24:06 -0400 (Mon, 15 Apr 2024) EndedAt: 2024-04-15 15:24:25 -0400 (Mon, 15 Apr 2024) EllapsedTime: 18.7 seconds RetCode: 0 Status: OK