Package: GeneNetworkBuilder Version: 1.44.0 Command: /home/biocbuild/bbs-3.18-bioc/R/bin/R CMD build --keep-empty-dirs --no-resave-data GeneNetworkBuilder StartedAt: 2024-04-15 17:12:13 -0400 (Mon, 15 Apr 2024) EndedAt: 2024-04-15 17:19:46 -0400 (Mon, 15 Apr 2024) EllapsedTime: 452.6 seconds RetCode: 0 Status: OK PackageFile: GeneNetworkBuilder_1.44.0.tar.gz PackageFileSize: 8.606 MiB