Package: GeneNetworkBuilder Version: 1.44.0 Command: /Library/Frameworks/R.framework/Resources/bin/R CMD build --keep-empty-dirs --no-resave-data GeneNetworkBuilder StartedAt: 2024-03-03 16:49:12 -0500 (Sun, 03 Mar 2024) EndedAt: 2024-03-03 16:57:09 -0500 (Sun, 03 Mar 2024) EllapsedTime: 477.4 seconds RetCode: 0 Status: OK PackageFile: GeneNetworkBuilder_1.44.0.tar.gz PackageFileSize: 8.606 MiB