Package: GeneNetworkBuilder Version: 1.44.0 Command: /home/biocbuild/R/R-4.3.1/bin/R CMD INSTALL GeneNetworkBuilder StartedAt: 2023-11-01 20:32:36 -0000 (Wed, 01 Nov 2023) EndedAt: 2023-11-01 20:33:04 -0000 (Wed, 01 Nov 2023) EllapsedTime: 28.0 seconds RetCode: 0 Status: OK