Package: GeneNetworkBuilder Version: 1.44.0 Command: /home/biocbuild/R/R-4.3.1/bin/R CMD build --keep-empty-dirs --no-resave-data GeneNetworkBuilder StartedAt: 2023-11-02 01:22:51 -0000 (Thu, 02 Nov 2023) EndedAt: 2023-11-02 01:34:32 -0000 (Thu, 02 Nov 2023) EllapsedTime: 700.9 seconds RetCode: 0 Status: OK PackageFile: GeneNetworkBuilder_1.44.0.tar.gz PackageFileSize: 9.217 MiB