Package: GeneMeta Version: 1.74.0 Command: rm -rf GeneMeta.buildbin-libdir && mkdir GeneMeta.buildbin-libdir && /Users/biocbuild/BBS/utils/build-universal.sh GeneMeta_1.74.0.tar.gz /Library/Frameworks/R.framework/Resources/bin/R GeneMeta.buildbin-libdir StartedAt: 2024-04-16 11:46:58 -0400 (Tue, 16 Apr 2024) EndedAt: 2024-04-16 11:47:51 -0400 (Tue, 16 Apr 2024) EllapsedTime: 53.0 seconds RetCode: 0 Status: OK PackageFile: GeneMeta_1.74.0.tgz PackageFileSize: 2.738 MiB