Package: GeneGeneInteR Version: 1.28.0 Command: /Library/Frameworks/R.framework/Resources/bin/R CMD INSTALL GeneGeneInteR StartedAt: 2024-04-15 16:21:58 -0400 (Mon, 15 Apr 2024) EndedAt: 2024-04-15 16:22:53 -0400 (Mon, 15 Apr 2024) EllapsedTime: 55.5 seconds RetCode: 0 Status: OK