Package: GeneGeneInteR Version: 1.28.0 Command: /home/biocbuild/R/R-4.3.1/bin/R CMD INSTALL GeneGeneInteR StartedAt: 2023-11-01 20:52:31 -0000 (Wed, 01 Nov 2023) EndedAt: 2023-11-01 20:53:06 -0000 (Wed, 01 Nov 2023) EllapsedTime: 34.9 seconds RetCode: 0 Status: OK