Package: GeneGA Version: 1.52.0 Command: /home/biocbuild/bbs-3.18-bioc/R/bin/R CMD check --install=check:GeneGA.install-out.txt --library=/home/biocbuild/bbs-3.18-bioc/R/site-library --timings GeneGA_1.52.0.tar.gz StartedAt: 2024-04-15 23:02:10 -0400 (Mon, 15 Apr 2024) EndedAt: 2024-04-15 23:05:33 -0400 (Mon, 15 Apr 2024) EllapsedTime: 203.1 seconds RetCode: 0 Status: OK CheckDir: GeneGA.Rcheck Warnings: 0