Package: GeneGA Version: 1.52.0 Command: /home/biocbuild/bbs-3.18-bioc/R/bin/R CMD build --keep-empty-dirs --no-resave-data GeneGA StartedAt: 2024-04-15 17:11:49 -0400 (Mon, 15 Apr 2024) EndedAt: 2024-04-15 17:12:49 -0400 (Mon, 15 Apr 2024) EllapsedTime: 60.1 seconds RetCode: 0 Status: OK PackageFile: GeneGA_1.52.0.tar.gz PackageFileSize: 229.7 KiB