Package: GeneGA Version: 1.52.0 Command: /Library/Frameworks/R.framework/Resources/bin/R CMD build --keep-empty-dirs --no-resave-data GeneGA StartedAt: 2024-04-15 18:52:27 -0400 (Mon, 15 Apr 2024) EndedAt: 2024-04-15 18:55:53 -0400 (Mon, 15 Apr 2024) EllapsedTime: 206.2 seconds RetCode: 0 Status: OK PackageFile: GeneGA_1.52.0.tar.gz PackageFileSize: 228.3 KiB