Package: GeneGA Version: 1.52.0 Command: /Library/Frameworks/R.framework/Resources/bin/R CMD check --install=check:GeneGA.install-out.txt --library=/Library/Frameworks/R.framework/Resources/library --no-vignettes --timings GeneGA_1.52.0.tar.gz StartedAt: 2024-03-03 20:46:05 -0500 (Sun, 03 Mar 2024) EndedAt: 2024-03-03 20:52:08 -0500 (Sun, 03 Mar 2024) EllapsedTime: 362.7 seconds RetCode: 0 Status: OK CheckDir: GeneGA.Rcheck Warnings: 0