Package: GeneGA Version: 1.52.0 Command: /home/biocbuild/R/R-4.3.1/bin/R CMD check --install=check:GeneGA.install-out.txt --library=/home/biocbuild/R/R-4.3.1/site-library --no-vignettes --timings GeneGA_1.52.0.tar.gz StartedAt: 2023-11-02 10:45:44 -0000 (Thu, 02 Nov 2023) EndedAt: 2023-11-02 10:47:56 -0000 (Thu, 02 Nov 2023) EllapsedTime: 132.1 seconds RetCode: 0 Status: OK CheckDir: GeneGA.Rcheck Warnings: 0