Package: GeneExpressionSignature Version: 1.48.0 Command: F:\biocbuild\bbs-3.18-bioc\R\bin\R.exe CMD INSTALL GeneExpressionSignature StartedAt: 2024-04-15 15:40:44 -0400 (Mon, 15 Apr 2024) EndedAt: 2024-04-15 15:41:00 -0400 (Mon, 15 Apr 2024) EllapsedTime: 16.0 seconds RetCode: 0 Status: OK