Package: GeneExpressionSignature Version: 1.48.0 Command: rm -rf GeneExpressionSignature.buildbin-libdir && mkdir GeneExpressionSignature.buildbin-libdir && F:\biocbuild\bbs-3.18-bioc\R\bin\R.exe CMD INSTALL --build --library=GeneExpressionSignature.buildbin-libdir GeneExpressionSignature_1.48.0.tar.gz StartedAt: 2024-04-16 07:03:07 -0400 (Tue, 16 Apr 2024) EndedAt: 2024-04-16 07:03:15 -0400 (Tue, 16 Apr 2024) EllapsedTime: 7.9 seconds RetCode: 0 Status: OK PackageFile: GeneExpressionSignature_1.48.0.zip PackageFileSize: 2.529 MiB