Package: GeneBreak Version: 1.32.0 Command: chmod a+r GeneBreak -R && F:\biocbuild\bbs-3.18-bioc\R\bin\R.exe CMD build --keep-empty-dirs --no-resave-data GeneBreak StartedAt: 2024-04-15 18:40:10 -0400 (Mon, 15 Apr 2024) EndedAt: 2024-04-15 18:40:52 -0400 (Mon, 15 Apr 2024) EllapsedTime: 41.5 seconds RetCode: 0 Status: OK PackageFile: GeneBreak_1.32.0.tar.gz PackageFileSize: 4.142 MiB