Package: GeneBreak Version: 1.32.0 Command: rm -rf GeneBreak.buildbin-libdir && mkdir GeneBreak.buildbin-libdir && F:\biocbuild\bbs-3.18-bioc\R\bin\R.exe CMD INSTALL --build --library=GeneBreak.buildbin-libdir GeneBreak_1.32.0.tar.gz StartedAt: 2024-04-16 07:03:03 -0400 (Tue, 16 Apr 2024) EndedAt: 2024-04-16 07:03:33 -0400 (Tue, 16 Apr 2024) EllapsedTime: 30.2 seconds RetCode: 0 Status: OK PackageFile: GeneBreak_1.32.0.zip PackageFileSize: 4.45 MiB