Package: GenVisR Version: 1.34.2 Command: F:\biocbuild\bbs-3.18-bioc\R\bin\R.exe CMD INSTALL GenVisR StartedAt: 2024-04-15 16:04:59 -0400 (Mon, 15 Apr 2024) EndedAt: 2024-04-15 16:06:13 -0400 (Mon, 15 Apr 2024) EllapsedTime: 73.9 seconds RetCode: 0 Status: OK