Package: GenVisR Version: 1.34.2 Command: /home/biocbuild/bbs-3.18-bioc/R/bin/R CMD INSTALL GenVisR StartedAt: 2024-04-15 15:26:25 -0400 (Mon, 15 Apr 2024) EndedAt: 2024-04-15 15:27:14 -0400 (Mon, 15 Apr 2024) EllapsedTime: 49.3 seconds RetCode: 0 Status: OK