Package: GenVisR Version: 1.34.2 Command: /home/biocbuild/bbs-3.18-bioc/R/bin/R CMD check --install=check:GenVisR.install-out.txt --library=/home/biocbuild/bbs-3.18-bioc/R/site-library --timings GenVisR_1.34.2.tar.gz StartedAt: 2024-04-15 23:10:51 -0400 (Mon, 15 Apr 2024) EndedAt: 2024-04-15 23:26:35 -0400 (Mon, 15 Apr 2024) EllapsedTime: 943.6 seconds RetCode: 1 Status: ERROR CheckDir: GenVisR.Rcheck Warnings: NA